Package: ISoLDE Version: 1.28.0 Command: chmod a+r ISoLDE -R && F:\biocbuild\bbs-3.17-bioc\R\bin\R.exe CMD build --keep-empty-dirs --no-resave-data ISoLDE StartedAt: 2023-10-15 20:02:07 -0400 (Sun, 15 Oct 2023) EndedAt: 2023-10-15 20:02:11 -0400 (Sun, 15 Oct 2023) EllapsedTime: 4.0 seconds RetCode: 0 Status: OK PackageFile: ISoLDE_1.28.0.tar.gz PackageFileSize: 1.228 MiB