Package: Icens Version: 1.72.0 Command: chmod a+r Icens -R && F:\biocbuild\bbs-3.17-bioc\R\bin\R.exe CMD build --keep-empty-dirs --no-resave-data Icens StartedAt: 2023-10-15 19:52:26 -0400 (Sun, 15 Oct 2023) EndedAt: 2023-10-15 19:52:28 -0400 (Sun, 15 Oct 2023) EllapsedTime: 2.0 seconds RetCode: 0 Status: OK PackageFile: Icens_1.72.0.tar.gz PackageFileSize: 20.77 KiB