Package: IdeoViz Version: 1.36.0 Command: /Library/Frameworks/R.framework/Resources/bin/R CMD build --keep-empty-dirs --no-resave-data IdeoViz StartedAt: 2023-10-15 18:57:24 -0400 (Sun, 15 Oct 2023) EndedAt: 2023-10-15 18:59:29 -0400 (Sun, 15 Oct 2023) EllapsedTime: 124.8 seconds RetCode: 0 Status: OK PackageFile: IdeoViz_1.36.0.tar.gz PackageFileSize: 1.003 MiB