Package: IgGeneUsage Version: 1.14.0 Command: /Library/Frameworks/R.framework/Resources/bin/R CMD build --keep-empty-dirs --no-resave-data IgGeneUsage StartedAt: 2023-10-15 18:58:24 -0400 (Sun, 15 Oct 2023) EndedAt: 2023-10-15 19:05:30 -0400 (Sun, 15 Oct 2023) EllapsedTime: 425.6 seconds RetCode: 0 Status: OK PackageFile: IgGeneUsage_1.14.0.tar.gz PackageFileSize: 773.3 KiB