Package: IgGeneUsage Version: 1.14.0 Command: rm -rf IgGeneUsage.buildbin-libdir && mkdir IgGeneUsage.buildbin-libdir && F:\biocbuild\bbs-3.17-bioc\R\bin\R.exe CMD INSTALL --build --library=IgGeneUsage.buildbin-libdir IgGeneUsage_1.14.0.tar.gz StartedAt: 2023-10-16 08:57:15 -0400 (Mon, 16 Oct 2023) EndedAt: 2023-10-16 09:00:10 -0400 (Mon, 16 Oct 2023) EllapsedTime: 174.8 seconds RetCode: 0 Status: OK PackageFile: IgGeneUsage_1.14.0.zip PackageFileSize: 1.323 MiB