Package: IgGeneUsage Version: 1.14.0 Command: F:\biocbuild\bbs-3.17-bioc\R\bin\R.exe CMD check --no-multiarch --install=check:IgGeneUsage.install-out.txt --library=F:\biocbuild\bbs-3.17-bioc\R\library --no-vignettes --timings IgGeneUsage_1.14.0.tar.gz StartedAt: 2023-10-16 03:10:32 -0400 (Mon, 16 Oct 2023) EndedAt: 2023-10-16 03:30:01 -0400 (Mon, 16 Oct 2023) EllapsedTime: 1169.9 seconds RetCode: 0 Status: OK CheckDir: IgGeneUsage.Rcheck Warnings: 0