git_url: https://git.bioconductor.org/packages/InteractiveComplexHeatmap git_branch: RELEASE_3_17 git_last_commit: 4aa6efb git_last_commit_date: 2023-04-25 11:26:07 -0400 (Tue, 25 Apr 2023) Package: InteractiveComplexHeatmap Version: 1.8.0 Maintainer: Zuguang Gu MaintainerEmail: z.gu at dkfz.de