Package: InteractiveComplexHeatmap Version: 1.8.0 Command: rm -rf InteractiveComplexHeatmap.buildbin-libdir && mkdir InteractiveComplexHeatmap.buildbin-libdir && F:\biocbuild\bbs-3.17-bioc\R\bin\R.exe CMD INSTALL --build --library=InteractiveComplexHeatmap.buildbin-libdir InteractiveComplexHeatmap_1.8.0.tar.gz StartedAt: 2023-10-16 08:57:57 -0400 (Mon, 16 Oct 2023) EndedAt: 2023-10-16 08:58:17 -0400 (Mon, 16 Oct 2023) EllapsedTime: 19.6 seconds RetCode: 0 Status: OK PackageFile: InteractiveComplexHeatmap_1.8.0.zip PackageFileSize: 1.1 MiB