Package: InteractiveComplexHeatmap Version: 1.8.0 Command: F:\biocbuild\bbs-3.17-bioc\R\bin\R.exe CMD check --no-multiarch --install=check:InteractiveComplexHeatmap.install-out.txt --library=F:\biocbuild\bbs-3.17-bioc\R\library --no-vignettes --timings InteractiveComplexHeatmap_1.8.0.tar.gz StartedAt: 2023-10-16 03:16:32 -0400 (Mon, 16 Oct 2023) EndedAt: 2023-10-16 03:18:11 -0400 (Mon, 16 Oct 2023) EllapsedTime: 99.4 seconds RetCode: 0 Status: OK CheckDir: InteractiveComplexHeatmap.Rcheck Warnings: 0