Package: InteractiveComplexHeatmap Version: 1.8.0 Command: F:\biocbuild\bbs-3.17-bioc\R\bin\R.exe CMD INSTALL InteractiveComplexHeatmap StartedAt: 2023-10-15 16:23:19 -0400 (Sun, 15 Oct 2023) EndedAt: 2023-10-15 16:23:39 -0400 (Sun, 15 Oct 2023) EllapsedTime: 19.5 seconds RetCode: 0 Status: OK