Package: IsoformSwitchAnalyzeR Version: 2.0.1 Command: rm -rf IsoformSwitchAnalyzeR.buildbin-libdir && mkdir IsoformSwitchAnalyzeR.buildbin-libdir && F:\biocbuild\bbs-3.17-bioc\R\bin\R.exe CMD INSTALL --build --library=IsoformSwitchAnalyzeR.buildbin-libdir IsoformSwitchAnalyzeR_2.0.1.tar.gz StartedAt: 2023-10-16 08:59:04 -0400 (Mon, 16 Oct 2023) EndedAt: 2023-10-16 09:00:26 -0400 (Mon, 16 Oct 2023) EllapsedTime: 82.3 seconds RetCode: 0 Status: OK PackageFile: IsoformSwitchAnalyzeR_2.0.1.zip PackageFileSize: 5.252 MiB