Package: IsoformSwitchAnalyzeR Version: 2.0.1 Command: F:\biocbuild\bbs-3.17-bioc\R\bin\R.exe CMD check --no-multiarch --install=check:IsoformSwitchAnalyzeR.install-out.txt --library=F:\biocbuild\bbs-3.17-bioc\R\library --no-vignettes --timings IsoformSwitchAnalyzeR_2.0.1.tar.gz StartedAt: 2023-10-16 03:22:55 -0400 (Mon, 16 Oct 2023) EndedAt: 2023-10-16 03:33:12 -0400 (Mon, 16 Oct 2023) EllapsedTime: 616.8 seconds RetCode: 0 Status: OK CheckDir: IsoformSwitchAnalyzeR.Rcheck Warnings: 0