Package: KEGGgraph Version: 1.60.0 Command: /home/biocbuild/bbs-3.17-bioc/R/bin/R CMD INSTALL KEGGgraph StartedAt: 2023-10-15 15:10:35 -0400 (Sun, 15 Oct 2023) EndedAt: 2023-10-15 15:10:49 -0400 (Sun, 15 Oct 2023) EllapsedTime: 14.6 seconds RetCode: 0 Status: OK