Package: KEGGgraph Version: 1.60.0 Command: F:\biocbuild\bbs-3.17-bioc\R\bin\R.exe CMD check --no-multiarch --install=check:KEGGgraph.install-out.txt --library=F:\biocbuild\bbs-3.17-bioc\R\library --no-vignettes --timings KEGGgraph_1.60.0.tar.gz StartedAt: 2023-10-16 03:26:48 -0400 (Mon, 16 Oct 2023) EndedAt: 2023-10-16 03:28:04 -0400 (Mon, 16 Oct 2023) EllapsedTime: 76.0 seconds RetCode: 0 Status: WARNINGS CheckDir: KEGGgraph.Rcheck Warnings: 1