Package: LPEadj Version: 1.60.0 Command: F:\biocbuild\bbs-3.17-bioc\R\bin\R.exe CMD check --no-multiarch --install=check:LPEadj.install-out.txt --library=F:\biocbuild\bbs-3.17-bioc\R\library --no-vignettes --timings LPEadj_1.60.0.tar.gz StartedAt: 2023-10-16 03:33:52 -0400 (Mon, 16 Oct 2023) EndedAt: 2023-10-16 03:34:15 -0400 (Mon, 16 Oct 2023) EllapsedTime: 23.2 seconds RetCode: 0 Status: OK CheckDir: LPEadj.Rcheck Warnings: 0