Package: LRcell Version: 1.8.0 Command: chmod a+r LRcell -R && F:\biocbuild\bbs-3.17-bioc\R\bin\R.exe CMD build --keep-empty-dirs --no-resave-data LRcell StartedAt: 2023-10-15 20:07:21 -0400 (Sun, 15 Oct 2023) EndedAt: 2023-10-15 20:09:15 -0400 (Sun, 15 Oct 2023) EllapsedTime: 114.5 seconds RetCode: 0 Status: OK PackageFile: LRcell_1.8.0.tar.gz PackageFileSize: 735.2 KiB