Package: LRcell Version: 1.8.0 Command: F:\biocbuild\bbs-3.17-bioc\R\bin\R.exe CMD INSTALL LRcell StartedAt: 2023-10-15 17:04:05 -0400 (Sun, 15 Oct 2023) EndedAt: 2023-10-15 17:04:25 -0400 (Sun, 15 Oct 2023) EllapsedTime: 20.3 seconds RetCode: 0 Status: OK