Package: LinTInd Version: 1.4.0 Command: /Library/Frameworks/R.framework/Resources/bin/R CMD check --install=check:LinTInd.install-out.txt --library=/Library/Frameworks/R.framework/Resources/library --no-vignettes --timings LinTInd_1.4.0.tar.gz StartedAt: 2023-10-16 03:14:33 -0400 (Mon, 16 Oct 2023) EndedAt: 2023-10-16 03:20:12 -0400 (Mon, 16 Oct 2023) EllapsedTime: 338.8 seconds RetCode: 0 Status: OK CheckDir: LinTInd.Rcheck Warnings: 0