Package: LinTInd Version: 1.4.0 Command: /home/biocbuild/bbs-3.17-bioc/R/bin/R CMD build --keep-empty-dirs --no-resave-data LinTInd StartedAt: 2023-10-15 17:15:47 -0400 (Sun, 15 Oct 2023) EndedAt: 2023-10-15 17:16:32 -0400 (Sun, 15 Oct 2023) EllapsedTime: 44.8 seconds RetCode: 0 Status: OK PackageFile: LinTInd_1.4.0.tar.gz PackageFileSize: 1.52 MiB