Package: LinTInd Version: 1.4.0 Command: F:\biocbuild\bbs-3.17-bioc\R\bin\R.exe CMD check --no-multiarch --install=check:LinTInd.install-out.txt --library=F:\biocbuild\bbs-3.17-bioc\R\library --no-vignettes --timings LinTInd_1.4.0.tar.gz StartedAt: 2023-10-16 03:31:21 -0400 (Mon, 16 Oct 2023) EndedAt: 2023-10-16 03:33:29 -0400 (Mon, 16 Oct 2023) EllapsedTime: 128.4 seconds RetCode: 0 Status: OK CheckDir: LinTInd.Rcheck Warnings: 0