Package: LinkHD Version: 1.14.0 Command: /Library/Frameworks/R.framework/Resources/bin/R CMD INSTALL LinkHD StartedAt: 2023-10-15 16:23:44 -0400 (Sun, 15 Oct 2023) EndedAt: 2023-10-15 16:25:08 -0400 (Sun, 15 Oct 2023) EllapsedTime: 83.7 seconds RetCode: 0 Status: OK