Package: M3Drop Version: 1.26.0 Command: rm -rf M3Drop.buildbin-libdir && mkdir M3Drop.buildbin-libdir && F:\biocbuild\bbs-3.17-bioc\R\bin\R.exe CMD INSTALL --build --library=M3Drop.buildbin-libdir M3Drop_1.26.0.tar.gz StartedAt: 2023-10-16 09:01:04 -0400 (Mon, 16 Oct 2023) EndedAt: 2023-10-16 09:01:32 -0400 (Mon, 16 Oct 2023) EllapsedTime: 28.1 seconds RetCode: 0 Status: OK PackageFile: M3Drop_1.26.0.zip PackageFileSize: 12.36 MiB