Package: MAGAR Version: 1.8.0 Command: rm -rf MAGAR.buildbin-libdir && mkdir MAGAR.buildbin-libdir && /Users/biocbuild/BBS/utils/build-universal.sh MAGAR_1.8.0.tar.gz /Library/Frameworks/R.framework/Resources/bin/R MAGAR.buildbin-libdir StartedAt: 2023-10-16 09:39:15 -0400 (Mon, 16 Oct 2023) EndedAt: 2023-10-16 09:42:45 -0400 (Mon, 16 Oct 2023) EllapsedTime: 210.1 seconds RetCode: 0 Status: OK PackageFile: MAGAR_1.8.0.tgz PackageFileSize: 1.49 MiB