Package: MAGAR Version: 1.8.0 Command: /Library/Frameworks/R.framework/Resources/bin/R CMD check --install=check:MAGAR.install-out.txt --library=/Library/Frameworks/R.framework/Resources/library --no-vignettes --timings MAGAR_1.8.0.tar.gz StartedAt: 2023-10-16 03:20:37 -0400 (Mon, 16 Oct 2023) EndedAt: 2023-10-16 03:40:25 -0400 (Mon, 16 Oct 2023) EllapsedTime: 1187.8 seconds RetCode: 0 Status: OK CheckDir: MAGAR.Rcheck Warnings: 0