Package: MAGAR Version: 1.8.0 Command: /home/biocbuild/bbs-3.17-bioc/R/bin/R CMD INSTALL MAGAR StartedAt: 2023-10-15 15:47:40 -0400 (Sun, 15 Oct 2023) EndedAt: 2023-10-15 15:48:44 -0400 (Sun, 15 Oct 2023) EllapsedTime: 64.1 seconds RetCode: 0 Status: OK