Package: MANOR Version: 1.72.0 Command: F:\biocbuild\bbs-3.17-bioc\R\bin\R.exe CMD check --no-multiarch --install=check:MANOR.install-out.txt --library=F:\biocbuild\bbs-3.17-bioc\R\library --no-vignettes --timings MANOR_1.72.0.tar.gz StartedAt: 2023-10-16 03:39:11 -0400 (Mon, 16 Oct 2023) EndedAt: 2023-10-16 03:39:55 -0400 (Mon, 16 Oct 2023) EllapsedTime: 43.7 seconds RetCode: 0 Status: WARNINGS CheckDir: MANOR.Rcheck Warnings: 2