Package: MBQN Version: 2.12.0 Command: rm -rf MBQN.buildbin-libdir && mkdir MBQN.buildbin-libdir && F:\biocbuild\bbs-3.17-bioc\R\bin\R.exe CMD INSTALL --build --library=MBQN.buildbin-libdir MBQN_2.12.0.tar.gz StartedAt: 2023-10-16 09:02:26 -0400 (Mon, 16 Oct 2023) EndedAt: 2023-10-16 09:02:33 -0400 (Mon, 16 Oct 2023) EllapsedTime: 6.5 seconds RetCode: 0 Status: OK PackageFile: MBQN_2.12.0.zip PackageFileSize: 141.1 KiB