Package: MBQN Version: 2.12.0 Command: F:\biocbuild\bbs-3.17-bioc\R\bin\R.exe CMD check --no-multiarch --install=check:MBQN.install-out.txt --library=F:\biocbuild\bbs-3.17-bioc\R\library --no-vignettes --timings MBQN_2.12.0.tar.gz StartedAt: 2023-10-16 03:44:34 -0400 (Mon, 16 Oct 2023) EndedAt: 2023-10-16 03:45:06 -0400 (Mon, 16 Oct 2023) EllapsedTime: 32.2 seconds RetCode: 0 Status: OK CheckDir: MBQN.Rcheck Warnings: 0