Package: MBQN Version: 2.12.0 Command: F:\biocbuild\bbs-3.17-bioc\R\bin\R.exe CMD INSTALL MBQN StartedAt: 2023-10-15 16:24:19 -0400 (Sun, 15 Oct 2023) EndedAt: 2023-10-15 16:24:25 -0400 (Sun, 15 Oct 2023) EllapsedTime: 6.4 seconds RetCode: 0 Status: OK