Package: MDTS Version: 1.20.0 Command: chmod a+r MDTS -R && F:\biocbuild\bbs-3.17-bioc\R\bin\R.exe CMD build --keep-empty-dirs --no-resave-data MDTS StartedAt: 2023-10-15 20:14:06 -0400 (Sun, 15 Oct 2023) EndedAt: 2023-10-15 20:14:45 -0400 (Sun, 15 Oct 2023) EllapsedTime: 39.1 seconds RetCode: 0 Status: OK PackageFile: MDTS_1.20.0.tar.gz PackageFileSize: 31.6 KiB