Package: MDTS Version: 1.20.0 Command: F:\biocbuild\bbs-3.17-bioc\R\bin\R.exe CMD INSTALL MDTS StartedAt: 2023-10-15 16:09:41 -0400 (Sun, 15 Oct 2023) EndedAt: 2023-10-15 16:10:10 -0400 (Sun, 15 Oct 2023) EllapsedTime: 28.8 seconds RetCode: 0 Status: OK