Package: MEAT Version: 1.12.0 Command: /home/biocbuild/bbs-3.17-bioc/R/bin/R CMD build --keep-empty-dirs --no-resave-data MEAT StartedAt: 2023-10-15 17:20:20 -0400 (Sun, 15 Oct 2023) EndedAt: 2023-10-15 17:21:48 -0400 (Sun, 15 Oct 2023) EllapsedTime: 87.4 seconds RetCode: 0 Status: OK PackageFile: MEAT_1.12.0.tar.gz PackageFileSize: 4.974 MiB