Package: MEAT Version: 1.12.0 Command: /home/biocbuild/bbs-3.17-bioc/R/bin/R CMD check --install=check:MEAT.install-out.txt --library=/home/biocbuild/bbs-3.17-bioc/R/site-library --timings MEAT_1.12.0.tar.gz StartedAt: 2023-10-15 22:33:10 -0400 (Sun, 15 Oct 2023) EndedAt: 2023-10-15 22:39:51 -0400 (Sun, 15 Oct 2023) EllapsedTime: 401.5 seconds RetCode: 0 Status: WARNINGS CheckDir: MEAT.Rcheck Warnings: 1