Package: MEAT Version: 1.12.0 Command: /home/biocbuild/bbs-3.17-bioc/R/bin/R CMD INSTALL MEAT StartedAt: 2023-10-15 15:48:18 -0400 (Sun, 15 Oct 2023) EndedAt: 2023-10-15 15:49:10 -0400 (Sun, 15 Oct 2023) EllapsedTime: 51.8 seconds RetCode: 0 Status: OK