Package: MEAT Version: 1.12.0 Command: chmod a+r MEAT -R && F:\biocbuild\bbs-3.17-bioc\R\bin\R.exe CMD build --keep-empty-dirs --no-resave-data MEAT StartedAt: 2023-10-15 20:14:30 -0400 (Sun, 15 Oct 2023) EndedAt: 2023-10-15 20:16:09 -0400 (Sun, 15 Oct 2023) EllapsedTime: 99.5 seconds RetCode: 0 Status: OK PackageFile: MEAT_1.12.0.tar.gz PackageFileSize: 4.974 MiB