Package: MIGSA Version: 1.24.0 Command: /Library/Frameworks/R.framework/Resources/bin/R CMD build --keep-empty-dirs --no-resave-data MIGSA StartedAt: 2023-10-15 19:30:12 -0400 (Sun, 15 Oct 2023) EndedAt: 2023-10-15 19:32:07 -0400 (Sun, 15 Oct 2023) EllapsedTime: 115.0 seconds RetCode: 1 Status: ERROR PackageFile: None PackageFileSize: NA