Package: MIRA Version: 1.22.0 Command: /Library/Frameworks/R.framework/Resources/bin/R CMD build --keep-empty-dirs --no-resave-data MIRA StartedAt: 2023-10-15 19:32:10 -0400 (Sun, 15 Oct 2023) EndedAt: 2023-10-15 19:34:26 -0400 (Sun, 15 Oct 2023) EllapsedTime: 135.8 seconds RetCode: 0 Status: OK PackageFile: MIRA_1.22.0.tar.gz PackageFileSize: 2.466 MiB