Package: MIRA Version: 1.22.0 Command: rm -rf MIRA.buildbin-libdir && mkdir MIRA.buildbin-libdir && F:\biocbuild\bbs-3.17-bioc\R\bin\R.exe CMD INSTALL --build --library=MIRA.buildbin-libdir MIRA_1.22.0.tar.gz StartedAt: 2023-10-16 09:05:39 -0400 (Mon, 16 Oct 2023) EndedAt: 2023-10-16 09:06:24 -0400 (Mon, 16 Oct 2023) EllapsedTime: 44.2 seconds RetCode: 0 Status: OK PackageFile: MIRA_1.22.0.zip PackageFileSize: 1.803 MiB