Package: MLP Version: 1.48.0 Command: F:\biocbuild\bbs-3.17-bioc\R\bin\R.exe CMD check --no-multiarch --install=check:MLP.install-out.txt --library=F:\biocbuild\bbs-3.17-bioc\R\library --no-vignettes --timings MLP_1.48.0.tar.gz StartedAt: 2023-10-16 04:12:59 -0400 (Mon, 16 Oct 2023) EndedAt: 2023-10-16 04:22:36 -0400 (Mon, 16 Oct 2023) EllapsedTime: 576.4 seconds RetCode: 0 Status: OK CheckDir: MLP.Rcheck Warnings: 0