Package: MLSeq Version: 2.18.0 Command: F:\biocbuild\bbs-3.17-bioc\R\bin\R.exe CMD INSTALL MLSeq StartedAt: 2023-10-15 16:49:01 -0400 (Sun, 15 Oct 2023) EndedAt: 2023-10-15 16:49:44 -0400 (Sun, 15 Oct 2023) EllapsedTime: 43.0 seconds RetCode: 0 Status: OK