Package: MSPrep Version: 1.10.0 Command: /home/biocbuild/bbs-3.17-bioc/R/bin/R CMD check --install=check:MSPrep.install-out.txt --library=/home/biocbuild/bbs-3.17-bioc/R/site-library --timings MSPrep_1.10.0.tar.gz StartedAt: 2023-10-15 23:06:13 -0400 (Sun, 15 Oct 2023) EndedAt: 2023-10-15 23:14:54 -0400 (Sun, 15 Oct 2023) EllapsedTime: 521.3 seconds RetCode: 0 Status: OK CheckDir: MSPrep.Rcheck Warnings: 0