Package: MSPrep Version: 1.10.0 Command: rm -rf MSPrep.buildbin-libdir && mkdir MSPrep.buildbin-libdir && F:\biocbuild\bbs-3.17-bioc\R\bin\R.exe CMD INSTALL --build --library=MSPrep.buildbin-libdir MSPrep_1.10.0.tar.gz StartedAt: 2023-10-16 09:08:11 -0400 (Mon, 16 Oct 2023) EndedAt: 2023-10-16 09:08:49 -0400 (Mon, 16 Oct 2023) EllapsedTime: 38.2 seconds RetCode: 0 Status: OK PackageFile: MSPrep_1.10.0.zip PackageFileSize: 1.639 MiB