Package: MSPrep Version: 1.10.0 Command: chmod a+r MSPrep -R && F:\biocbuild\bbs-3.17-bioc\R\bin\R.exe CMD build --keep-empty-dirs --no-resave-data MSPrep StartedAt: 2023-10-15 20:41:25 -0400 (Sun, 15 Oct 2023) EndedAt: 2023-10-15 20:43:44 -0400 (Sun, 15 Oct 2023) EllapsedTime: 138.9 seconds RetCode: 0 Status: OK PackageFile: MSPrep_1.10.0.tar.gz PackageFileSize: 1.574 MiB