Package: MSstatsConvert Version: 1.10.5 Command: /Library/Frameworks/R.framework/Resources/bin/R CMD build --keep-empty-dirs --no-resave-data MSstatsConvert StartedAt: 2023-10-15 19:44:25 -0400 (Sun, 15 Oct 2023) EndedAt: 2023-10-15 19:44:45 -0400 (Sun, 15 Oct 2023) EllapsedTime: 20.2 seconds RetCode: 0 Status: OK PackageFile: MSstatsConvert_1.10.5.tar.gz PackageFileSize: 543.9 KiB