Package: MVCClass Version: 1.74.0 Command: rm -rf MVCClass.buildbin-libdir && mkdir MVCClass.buildbin-libdir && /Users/biocbuild/BBS/utils/build-universal.sh MVCClass_1.74.0.tar.gz /Library/Frameworks/R.framework/Resources/bin/R MVCClass.buildbin-libdir StartedAt: 2023-10-16 09:48:47 -0400 (Mon, 16 Oct 2023) EndedAt: 2023-10-16 09:49:00 -0400 (Mon, 16 Oct 2023) EllapsedTime: 13.0 seconds RetCode: 0 Status: OK PackageFile: MVCClass_1.74.0.tgz PackageFileSize: 1.229 MiB