Package: Maaslin2 Version: 1.14.1 Command: /Library/Frameworks/R.framework/Resources/bin/R CMD build --keep-empty-dirs --no-resave-data Maaslin2 StartedAt: 2023-10-15 19:12:02 -0400 (Sun, 15 Oct 2023) EndedAt: 2023-10-15 19:16:38 -0400 (Sun, 15 Oct 2023) EllapsedTime: 275.8 seconds RetCode: 0 Status: OK PackageFile: Maaslin2_1.14.1.tar.gz PackageFileSize: 544.1 KiB