Package: Maaslin2 Version: 1.14.1 Command: /Library/Frameworks/R.framework/Resources/bin/R CMD INSTALL Maaslin2 StartedAt: 2023-10-15 16:01:17 -0400 (Sun, 15 Oct 2023) EndedAt: 2023-10-15 16:01:44 -0400 (Sun, 15 Oct 2023) EllapsedTime: 27.1 seconds RetCode: 0 Status: OK