Package: Maaslin2 Version: 1.14.1 Command: /home/biocbuild/bbs-3.17-bioc/R/bin/R CMD build --keep-empty-dirs --no-resave-data Maaslin2 StartedAt: 2023-10-15 17:16:54 -0400 (Sun, 15 Oct 2023) EndedAt: 2023-10-15 17:18:39 -0400 (Sun, 15 Oct 2023) EllapsedTime: 105.2 seconds RetCode: 0 Status: OK PackageFile: Maaslin2_1.14.1.tar.gz PackageFileSize: 544 KiB