Package: MetID Version: 1.18.0 Command: /Library/Frameworks/R.framework/Resources/bin/R CMD build --keep-empty-dirs --no-resave-data MetID StartedAt: 2023-10-15 19:27:12 -0400 (Sun, 15 Oct 2023) EndedAt: 2023-10-15 19:28:37 -0400 (Sun, 15 Oct 2023) EllapsedTime: 85.7 seconds RetCode: 0 Status: OK PackageFile: MetID_1.18.0.tar.gz PackageFileSize: 1.504 MiB