Package: MetaCyto Version: 1.22.0 Command: chmod a+r MetaCyto -R && F:\biocbuild\bbs-3.17-bioc\R\bin\R.exe CMD build --keep-empty-dirs --no-resave-data MetaCyto StartedAt: 2023-10-15 20:16:46 -0400 (Sun, 15 Oct 2023) EndedAt: 2023-10-15 20:20:38 -0400 (Sun, 15 Oct 2023) EllapsedTime: 232.5 seconds RetCode: 0 Status: OK PackageFile: MetaCyto_1.22.0.tar.gz PackageFileSize: 964.5 KiB